BEGIN:VCALENDAR
VERSION:2.0
PRODID:-//Dual Citizen Brewing Co. - ECPv6.15.20//NONSGML v1.0//EN
CALSCALE:GREGORIAN
METHOD:PUBLISH
X-WR-CALNAME:Dual Citizen Brewing Co.
X-ORIGINAL-URL:https://dcbc.com
X-WR-CALDESC:Events for Dual Citizen Brewing Co.
REFRESH-INTERVAL;VALUE=DURATION:PT1H
X-Robots-Tag:noindex
X-PUBLISHED-TTL:PT1H
BEGIN:VTIMEZONE
TZID:America/Chicago
BEGIN:DAYLIGHT
TZOFFSETFROM:-0600
TZOFFSETTO:-0500
TZNAME:CDT
DTSTART:20240310T080000
END:DAYLIGHT
BEGIN:STANDARD
TZOFFSETFROM:-0500
TZOFFSETTO:-0600
TZNAME:CST
DTSTART:20241103T070000
END:STANDARD
BEGIN:DAYLIGHT
TZOFFSETFROM:-0600
TZOFFSETTO:-0500
TZNAME:CDT
DTSTART:20250309T080000
END:DAYLIGHT
BEGIN:STANDARD
TZOFFSETFROM:-0500
TZOFFSETTO:-0600
TZNAME:CST
DTSTART:20251102T070000
END:STANDARD
BEGIN:DAYLIGHT
TZOFFSETFROM:-0600
TZOFFSETTO:-0500
TZNAME:CDT
DTSTART:20260308T080000
END:DAYLIGHT
BEGIN:STANDARD
TZOFFSETFROM:-0500
TZOFFSETTO:-0600
TZNAME:CST
DTSTART:20261101T070000
END:STANDARD
BEGIN:DAYLIGHT
TZOFFSETFROM:-0600
TZOFFSETTO:-0500
TZNAME:CDT
DTSTART:20270314T080000
END:DAYLIGHT
BEGIN:STANDARD
TZOFFSETFROM:-0500
TZOFFSETTO:-0600
TZNAME:CST
DTSTART:20271107T070000
END:STANDARD
END:VTIMEZONE
BEGIN:VEVENT
DTSTART;TZID=America/Chicago:20260421T193000
DTEND;TZID=America/Chicago:20260421T213000
DTSTAMP:20260423T154035
CREATED:20260303T165052Z
LAST-MODIFIED:20260303T165052Z
UID:16342-1776799800-1776807000@dcbc.com
SUMMARY:Trivia Mafia
DESCRIPTION:Join Trivia Mafia every Tuesday at 7:30pm for a night of big brain activity. Assemble a team\, or fly solo and test your knowledge of…everything.
URL:https://dcbc.com/event/trivia-mafia-7/
LOCATION:Dual Citizen Brewing Co.\, 725 Raymond Ave.\, St. Paul\, MN\, 55114\, United States
CATEGORIES:Public Event,Taproom Event,Trivia
ATTACH;FMTTYPE=image/webp:https://dcbc.com/wp-content/uploads/2024/11/TriviaMafia-1.webp
END:VEVENT
BEGIN:VEVENT
DTSTART;TZID=America/Chicago:20260414T193000
DTEND;TZID=America/Chicago:20260414T213000
DTSTAMP:20260423T154035
CREATED:20260303T164928Z
LAST-MODIFIED:20260303T164928Z
UID:16340-1776195000-1776202200@dcbc.com
SUMMARY:Trivia Mafia
DESCRIPTION:Join Trivia Mafia every Tuesday at 7:30pm for a night of big brain activity. Assemble a team\, or fly solo and test your knowledge of…everything.
URL:https://dcbc.com/event/trivia-mafia-6/
LOCATION:Dual Citizen Brewing Co.\, 725 Raymond Ave.\, St. Paul\, MN\, 55114\, United States
CATEGORIES:Public Event,Taproom Event,Trivia
ATTACH;FMTTYPE=image/webp:https://dcbc.com/wp-content/uploads/2024/11/TriviaMafia-1.webp
END:VEVENT
BEGIN:VEVENT
DTSTART;TZID=America/Chicago:20260407T193000
DTEND;TZID=America/Chicago:20260407T213000
DTSTAMP:20260423T154035
CREATED:20260303T164825Z
LAST-MODIFIED:20260303T164825Z
UID:16338-1775590200-1775597400@dcbc.com
SUMMARY:Trivia Mafia
DESCRIPTION:Join Trivia Mafia every Tuesday at 7:30pm for a night of big brain activity. Assemble a team\, or fly solo and test your knowledge of…everything.
URL:https://dcbc.com/event/trivia-mafia-5/
LOCATION:Dual Citizen Brewing Co.\, 725 Raymond Ave.\, St. Paul\, MN\, 55114\, United States
CATEGORIES:Public Event,Taproom Event,Trivia
ATTACH;FMTTYPE=image/webp:https://dcbc.com/wp-content/uploads/2024/11/TriviaMafia-1.webp
END:VEVENT
BEGIN:VEVENT
DTSTART;TZID=America/Chicago:20260331T193000
DTEND;TZID=America/Chicago:20260331T213000
DTSTAMP:20260423T154035
CREATED:20260303T164629Z
LAST-MODIFIED:20260303T164629Z
UID:16336-1774985400-1774992600@dcbc.com
SUMMARY:Trivia Mafia
DESCRIPTION:Join Trivia Mafia every Tuesday at 7:30pm for a night of big brain activity. Assemble a team\, or fly solo and test your knowledge of…everything.
URL:https://dcbc.com/event/trivia-mafia-4/
LOCATION:Dual Citizen Brewing Co.\, 725 Raymond Ave.\, St. Paul\, MN\, 55114\, United States
CATEGORIES:Public Event,Taproom Event,Trivia
ATTACH;FMTTYPE=image/webp:https://dcbc.com/wp-content/uploads/2024/11/TriviaMafia-1.webp
END:VEVENT
BEGIN:VEVENT
DTSTART;TZID=America/Chicago:20260327T190000
DTEND;TZID=America/Chicago:20260327T210000
DTSTAMP:20260423T154035
CREATED:20260302T201206Z
LAST-MODIFIED:20260302T205816Z
UID:16327-1774638000-1774645200@dcbc.com
SUMMARY:BWCA Trivia
DESCRIPTION:Get ready for a night of fun and Boundary Waters brainpower at Trivia Night\, hosted at Dual Citizen Brewing Company! Dan Pauly\, BWCA author and Voyageur Maps owner\, will guide you through the questions. Trivia is free\, no team is needed\, and prizes await the top three teams. Bring your friends\, show off your BWCA knowledge\, and join the fun. Everyone is welcome!
URL:https://dcbc.com/event/bwca-trivia/
LOCATION:Dual Citizen Brewing Co.\, 725 Raymond Ave.\, St. Paul\, MN\, 55114\, United States
CATEGORIES:Public Event,Taproom Event,Trivia
ATTACH;FMTTYPE=image/jpeg:https://dcbc.com/wp-content/uploads/2026/03/bwca_trivia.jpg
END:VEVENT
BEGIN:VEVENT
DTSTART;TZID=America/Chicago:20260326T190000
DTEND;TZID=America/Chicago:20260326T210000
DTSTAMP:20260423T154035
CREATED:20260302T193509Z
LAST-MODIFIED:20260326T150409Z
UID:16321-1774551600-1774558800@dcbc.com
SUMMARY:Name That Jam - Music Trivia
DESCRIPTION:Get ready to turn up the volume for Name That Jam\, a music-based trivia game! Test your ears and your knowledge to guess throwback anthems\, covers\, and TV show/movie theme songs. Prizes for the sharpest team of the night will be awarded! \nThink you know your tunes? Grab your team and let’s see who really rules the jukebox! \nJoin us every 2nd and 4th Thursday
URL:https://dcbc.com/event/name-that-jam-music-trivia/
LOCATION:Dual Citizen Brewing Co.\, 725 Raymond Ave.\, St. Paul\, MN\, 55114\, United States
CATEGORIES:Public Event,Taproom Event,Trivia
ATTACH;FMTTYPE=image/jpeg:https://dcbc.com/wp-content/uploads/2026/03/NameThatJam.jpg
END:VEVENT
BEGIN:VEVENT
DTSTART;TZID=America/Chicago:20260324T193000
DTEND;TZID=America/Chicago:20260324T213000
DTSTAMP:20260423T154035
CREATED:20260303T164523Z
LAST-MODIFIED:20260303T164523Z
UID:16334-1774380600-1774387800@dcbc.com
SUMMARY:Trivia Mafia
DESCRIPTION:Join Trivia Mafia every Tuesday at 7:30pm for a night of big brain activity. Assemble a team\, or fly solo and test your knowledge of…everything.
URL:https://dcbc.com/event/trivia-mafia-3/
LOCATION:Dual Citizen Brewing Co.\, 725 Raymond Ave.\, St. Paul\, MN\, 55114\, United States
CATEGORIES:Public Event,Taproom Event,Trivia
ATTACH;FMTTYPE=image/webp:https://dcbc.com/wp-content/uploads/2024/11/TriviaMafia-1.webp
END:VEVENT
BEGIN:VEVENT
DTSTART;TZID=America/Chicago:20260310T193000
DTEND;TZID=America/Chicago:20260310T213000
DTSTAMP:20260423T154035
CREATED:20260303T164359Z
LAST-MODIFIED:20260303T164359Z
UID:16332-1773171000-1773178200@dcbc.com
SUMMARY:Trivia Mafia
DESCRIPTION:Join Trivia Mafia every Tuesday at 7:30pm for a night of big brain activity. Assemble a team\, or fly solo and test your knowledge of…everything.
URL:https://dcbc.com/event/trivia-mafia/
LOCATION:Dual Citizen Brewing Co.\, 725 Raymond Ave.\, St. Paul\, MN\, 55114\, United States
CATEGORIES:Public Event,Taproom Event,Trivia
ATTACH;FMTTYPE=image/webp:https://dcbc.com/wp-content/uploads/2024/11/TriviaMafia-1.webp
END:VEVENT
BEGIN:VEVENT
DTSTART;TZID=America/Chicago:20260303T193000
DTEND;TZID=America/Chicago:20260303T213000
DTSTAMP:20260423T154035
CREATED:20241120T164011Z
LAST-MODIFIED:20260303T164248Z
UID:15112-1772566200-1772573400@dcbc.com
SUMMARY:Trivia Mafia
DESCRIPTION:Join Trivia Mafia every Tuesday at 7:30pm for a night of big brain activity. Assemble a team\, or fly solo and test your knowledge of…everything.
URL:https://dcbc.com/event/trivia-mafia-2/
LOCATION:Dual Citizen Brewing
CATEGORIES:Networking Event,Public Event,Taproom Event,Trivia
ATTACH;FMTTYPE=image/webp:https://dcbc.com/wp-content/uploads/2024/11/TriviaMafia-1.webp
END:VEVENT
BEGIN:VEVENT
DTSTART;TZID=America/Chicago:20260123T180000
DTEND;TZID=America/Chicago:20260123T210000
DTSTAMP:20260423T154035
CREATED:20251222T225906Z
LAST-MODIFIED:20260120T203347Z
UID:16189-1769191200-1769202000@dcbc.com
SUMMARY:OOPS! All Sound Rounds - Trivia Fundraiser w/Every Meal
DESCRIPTION:A special night of trivia\, raising funds for Every Meal!\nTrivia Mafia is back with the ever-popular OOPS! All Sound Rounds – 2000’s Edition \nThe fundraiser begins at 6pm with interactive games.\nTrivia starts at 7pm! \n***As part of the ICE OUT efforts across the state on January 23rd\, we will remain open and donate 100% of taproom revenue to Every Meal from open to close on this day.*** \nMore info & RSVP at Every Meal
URL:https://dcbc.com/event/oops-all-sound-rounds-trivia-fundraiser-w-every-meal/
LOCATION:Dual Citizen Brewing Co.\, 725 Raymond Ave.\, St. Paul\, MN\, 55114\, United States
CATEGORIES:Charity Event,Fundraising Event,Games,Public Event,Taproom Event,Trivia
ATTACH;FMTTYPE=image/jpeg:https://dcbc.com/wp-content/uploads/2025/12/EveryMeal_TriviaNight.jpg
END:VEVENT
BEGIN:VEVENT
DTSTART;TZID=America/Chicago:20251204T193000
DTEND;TZID=America/Chicago:20251204T213000
DTSTAMP:20260423T154035
CREATED:20251118T183115Z
LAST-MODIFIED:20251118T183115Z
UID:16155-1764876600-1764883800@dcbc.com
SUMMARY:Lord of the Rings Trivia
DESCRIPTION:Assemble your fellowship and make your way to Middle Earth by way of Dual Citizen.\nWe are hosting a special night of Lord of the Rings themed trivia. \n“I don’t know\, and I would rather not guess.” — Frodo
URL:https://dcbc.com/event/lord-of-the-rings-trivia/
LOCATION:Dual Citizen Brewing Co.\, 725 Raymond Ave.\, St. Paul\, MN\, 55114\, United States
CATEGORIES:Public Event,Taproom Event,Trivia
ATTACH;FMTTYPE=image/png:https://dcbc.com/wp-content/uploads/2025/11/LotR_FB-Event.png
END:VEVENT
BEGIN:VEVENT
DTSTART;TZID=America/Chicago:20251009T193000
DTEND;TZID=America/Chicago:20251009T210000
DTSTAMP:20260423T154035
CREATED:20250929T182140Z
LAST-MODIFIED:20250929T190501Z
UID:16044-1760038200-1760043600@dcbc.com
SUMMARY:A24 Horror w/ Trivia Mafia
DESCRIPTION:You like modern horror films?\nHow about from one of the best studios around? \nJoin us for a special & spooky themed night from Trivia Mafia as we dig deep into the horror of A24!
URL:https://dcbc.com/event/a24-horror-w-trivia-mafia/
LOCATION:Dual Citizen Brewing Co.\, 725 Raymond Ave.\, St. Paul\, MN\, 55114\, United States
CATEGORIES:Public Event,Taproom Event,Trivia
END:VEVENT
END:VCALENDAR